BEGIN:VCALENDAR
VERSION:2.0
PRODID:icalendar-ruby
CALSCALE:GREGORIAN
METHOD:PUBLISH
BEGIN:VEVENT
DTSTAMP:20260420T113829Z
UID:8-1229632@houseofrenewal.com
DTSTART:20260810T230000Z
DTEND:20260811T000000Z
CLASS:PUBLIC
CREATED:20260420T013139
DESCRIPTION:
LAST-MODIFIED:20260420T013139
LOCATION:201 Rock Canyon Road
SUMMARY:Corporate Prayer
URL;VALUE=URI:https://www.houseofrenewal.com/events/corporate-prayer/2026-0
 8-10
ATTACH;FILENAME=1eb902bc4828f65fe54eab2228c15a3e.jpg;FMTTYPE=image/jpeg:htt
 ps://dq5pwpg1q8ru0.cloudfront.net/2025/07/14/20/36/18/1eff3817-ab8b-4336-b
 3ed-3c5038fa1d99/1eb902bc4828f65fe54eab2228c15a3e.jpg
END:VEVENT
END:VCALENDAR
