BEGIN:VCALENDAR
VERSION:2.0
PRODID:icalendar-ruby
CALSCALE:GREGORIAN
METHOD:PUBLISH
BEGIN:VEVENT
DTSTAMP:20260420T090927Z
UID:6-1229447@houseofrenewal.com
DTSTART:20260726T153000Z
DTEND:20260726T170000Z
CLASS:PUBLIC
CREATED:20260420T013138
DESCRIPTION:
LAST-MODIFIED:20260420T013138
LOCATION:201 Rock Canyon Road
SUMMARY:Sunday Service
URL;VALUE=URI:https://www.houseofrenewal.com/events/sunday-service/2026-07-
 26
ATTACH;FILENAME=house-of-renewal-logo.PNG;FMTTYPE=image/png:https://dq5pwpg
 1q8ru0.cloudfront.net/2025/02/12/23/43/54/45ff24cb-4d75-4e93-a4b1-f2b4c246
 756d/house-of-renewal-logo.PNG
END:VEVENT
END:VCALENDAR
