BEGIN:VCALENDAR
VERSION:2.0
PRODID:icalendar-ruby
CALSCALE:GREGORIAN
METHOD:PUBLISH
BEGIN:VEVENT
DTSTAMP:20260420T062346Z
UID:7-1229263@houseofrenewal.com
DTSTART:20260716T000000Z
DTEND:20260716T013000Z
CLASS:PUBLIC
CREATED:20260419T215416
DESCRIPTION:
LAST-MODIFIED:20260419T215416
LOCATION:201 Rock Canyon Road
SUMMARY:Wednesday Evening Service
URL;VALUE=URI:https://www.houseofrenewal.com/events/wednesday-evening-servi
 ce/2026-07-15
ATTACH;FILENAME=unnamed.jpg;FMTTYPE=image/jpeg:https://dq5pwpg1q8ru0.cloudf
 ront.net/2025/07/15/13/40/43/8aef94c2-0363-42ed-b625-cc151850c853/unnamed.
 jpg
END:VEVENT
END:VCALENDAR
