BEGIN:VCALENDAR
VERSION:2.0
PRODID:icalendar-ruby
CALSCALE:GREGORIAN
METHOD:PUBLISH
BEGIN:VEVENT
DTSTAMP:20260420T132703Z
UID:7-1229815@houseofrenewal.com
DTSTART:20260813T000000Z
DTEND:20260813T013000Z
CLASS:PUBLIC
CREATED:20260420T061205
DESCRIPTION:
LAST-MODIFIED:20260420T061205
LOCATION:201 Rock Canyon Road
SUMMARY:Wednesday Evening Service
URL;VALUE=URI:https://www.houseofrenewal.com/events/wednesday-evening-servi
 ce/2026-08-12
ATTACH;FILENAME=unnamed.jpg;FMTTYPE=image/jpeg:https://dq5pwpg1q8ru0.cloudf
 ront.net/2025/07/15/13/40/43/8aef94c2-0363-42ed-b625-cc151850c853/unnamed.
 jpg
END:VEVENT
END:VCALENDAR
