BEGIN:VCALENDAR
VERSION:2.0
PRODID:icalendar-ruby
CALSCALE:GREGORIAN
METHOD:PUBLISH
BEGIN:VEVENT
DTSTAMP:20260420T221912Z
UID:7-1230643@houseofrenewal.com
DTSTART:20260924T000000Z
DTEND:20260924T013000Z
CLASS:PUBLIC
CREATED:20260420T135559
DESCRIPTION:
LAST-MODIFIED:20260420T135559
LOCATION:201 Rock Canyon Road
SUMMARY:Wednesday Evening Service
URL;VALUE=URI:https://www.houseofrenewal.com/events/wednesday-evening-servi
 ce/2026-09-23
ATTACH;FILENAME=unnamed.jpg;FMTTYPE=image/jpeg:https://dq5pwpg1q8ru0.cloudf
 ront.net/2025/07/15/13/40/43/8aef94c2-0363-42ed-b625-cc151850c853/unnamed.
 jpg
END:VEVENT
END:VCALENDAR
